BEGIN:VCALENDAR
VERSION:2.0
PRODID:-//Library Market//iCal Export//EN
BEGIN:VEVENT
SUMMARY:Quilting Circle
UID:22437
DTSTAMP:20260420T013200Z
DTSTART:20260603T143000Z
DTEND:20260603T173000Z
LOCATION:Nanuet Public Library, 149 Church Street, Nanuet, NY 10954, Unite
 d States
ROOM: Adult Reading Room (New Nonfic)
DESCRIPTION:
URL:https://nanuet.librarycalendar.com/event/quilting-circle-22437
END:VEVENT
END:VCALENDAR
