BEGIN:VCALENDAR
VERSION:2.0
PRODID:-//Library Market//iCal Export//EN
BEGIN:VEVENT
SUMMARY:Ice Cream Kick Off (Session 2)
UID:22398
DTSTAMP:20260421T182200Z
DTSTART:20260622T210000Z
DTEND:20260622T220000Z
LOCATION:Nanuet Public Library, 149 Church St., Nanuet, NY 10954, United S
 tates
ROOM: Ice Cream Kick Off (Session 2)
DESCRIPTION:The Polar Pops Ice Cream Truck will be back to help celebrate 
 the start of Summer Reading! Enjoy free ice cream, crafts, temporary tatto
 os, music and catching up with your neighbors. Thank you to the Friends of
  the Library for their very generous support of this beloved Library tradi
 tion!
URL:https://nanuet.librarycalendar.com/event/ice-cream-kick-session-2-2239
 8
END:VEVENT
END:VCALENDAR
